BEGIN:VCALENDAR
VERSION:2.0
PRODID:-//Pollinators - ECPv4.6.19//NONSGML v1.0//EN
CALSCALE:GREGORIAN
METHOD:PUBLISH
X-WR-CALNAME:Pollinators
X-ORIGINAL-URL:https://pollinators.org.au
X-WR-CALDESC:Events for Pollinators
BEGIN:VEVENT
DTSTART;TZID=Australia/Perth:20190307T130000
DTEND;TZID=Australia/Perth:20190307T150000
DTSTAMP:20190227T074745
CREATED:20190225T061306Z
LAST-MODIFIED:20190225T061306Z
UID:14530-1551963600-1551970800@pollinators.org.au
SUMMARY:Be Connected Sessions
DESCRIPTION:Your local Be Connected centre can help you discover how being online can add new skills and experiences to your life. \nBe Connected is a free Australian Government initiative helping older Australians to get the most out of going online. \nBe Connected starts up again in CityHive on March 7 & 21\, April 4 & 11 from 1-3pm. \nAfternoon tea provided. \nPlease call Pollinators on 9965 5371 to RSVP! \nShare This
URL:https://pollinators.org.au/event/be-connected-sessions/2019-03-07/
LOCATION:184 Marine Terrace\, Geraldton\, Western Australia\, 6530\, Australia
GEO:-28.774499;114.607172
X-APPLE-STRUCTURED-LOCATION;VALUE=URI;X-ADDRESS=184 Marine Terrace Geraldton Western Australia 6530 Australia;X-APPLE-RADIUS=500;X-TITLE=184 Marine Terrace:geo:114.607172,-28.774499
CATEGORIES:Digital Enterprise,Info Session,Peer Learning Session,Training
ATTACH;FMTTYPE=image/jpeg:https://pollinators.org.au/wp-content/uploads/2019/02/Be-Connected-Poster-1-e1551074885130.jpg
ORGANIZER;CN="Pollinators%20Inc":MAILTO:community@pollinators.org.au
END:VEVENT
BEGIN:VEVENT
DTSTART;TZID=Australia/Perth:20190313T120000
DTEND;TZID=Australia/Perth:20190313T130000
DTSTAMP:20190227T074745
CREATED:20190222T061945Z
LAST-MODIFIED:20190225T053214Z
UID:14512-1552478400-1552482000@pollinators.org.au
SUMMARY:TED Talk + Toastie (March Networking Lunch)
DESCRIPTION:Pollinators is keeping on with our TED Talk and Toastie Networking Lunch this March. \nGot an awesome TED Talk in mind? Please send it through to buzz@pollinators.org.au \nCityHive will supply the bread – please bring your favourite ‘toastie fillings’ so we can all make toasties and watch some inspiring TED talks while having a good old fashioned yarn. \nAbout Networking Lunches:\nPollinators are inviting ALL members and non-members to join us for a networking lunch event in March.\nSo why not network while you have lunch and gain more than just a full tummy? \nPlease RSVP! \nWe look forward to seeing you all there! \nShare This
URL:https://pollinators.org.au/event/ted-talk-toastie-march-networking-lunch/
LOCATION:184 Marine Terrace\, Geraldton\, Western Australia\, 6530\, Australia
GEO:-28.774499;114.607172
X-APPLE-STRUCTURED-LOCATION;VALUE=URI;X-ADDRESS=184 Marine Terrace Geraldton Western Australia 6530 Australia;X-APPLE-RADIUS=500;X-TITLE=184 Marine Terrace:geo:114.607172,-28.774499
CATEGORIES:Lunchtime Lab,Peer Learning Session,Social Gathering
ATTACH;FMTTYPE=image/png:https://pollinators.org.au/wp-content/uploads/2019/02/Copy-of-Pollinators-30th-event-for-2018-e1550816509957.png
ORGANIZER;CN="Pollinators%20Inc":MAILTO:community@pollinators.org.au
END:VEVENT
BEGIN:VEVENT
DTSTART;TZID=Australia/Perth:20190321T130000
DTEND;TZID=Australia/Perth:20190321T150000
DTSTAMP:20190227T074745
CREATED:20190225T061306Z
LAST-MODIFIED:20190225T061306Z
UID:14533-1553173200-1553180400@pollinators.org.au
SUMMARY:Be Connected Sessions
DESCRIPTION:Your local Be Connected centre can help you discover how being online can add new skills and experiences to your life. \nBe Connected is a free Australian Government initiative helping older Australians to get the most out of going online. \nBe Connected starts up again in CityHive on March 7 & 21\, April 4 & 11 from 1-3pm. \nAfternoon tea provided. \nPlease call Pollinators on 9965 5371 to RSVP! \nShare This
URL:https://pollinators.org.au/event/be-connected-sessions/2019-03-21/
LOCATION:184 Marine Terrace\, Geraldton\, Western Australia\, 6530\, Australia
GEO:-28.774499;114.607172
X-APPLE-STRUCTURED-LOCATION;VALUE=URI;X-ADDRESS=184 Marine Terrace Geraldton Western Australia 6530 Australia;X-APPLE-RADIUS=500;X-TITLE=184 Marine Terrace:geo:114.607172,-28.774499
CATEGORIES:Digital Enterprise,Info Session,Peer Learning Session,Training
ATTACH;FMTTYPE=image/jpeg:https://pollinators.org.au/wp-content/uploads/2019/02/Be-Connected-Poster-1-e1551074885130.jpg
ORGANIZER;CN="Pollinators%20Inc":MAILTO:community@pollinators.org.au
END:VEVENT
BEGIN:VEVENT
DTSTART;TZID=Australia/Perth:20190322T173000
DTEND;TZID=Australia/Perth:20190322T190000
DTSTAMP:20190227T074745
CREATED:20190222T071858Z
LAST-MODIFIED:20190222T072036Z
UID:14516-1553275800-1553281200@pollinators.org.au
SUMMARY:March Social Meetup
DESCRIPTION:Please join Pollinators for our March Social Meetup on Friday the 22nd of March! \nPollinators attract thinkers\, doers\, innovators and creators around a topic of interest\, and combine with good food\, drink\, venues and facilitation to create amazing experiences. Any presentations are time-limited\, focusing more time on discussion\, debate\, and networking. \n\nEnjoy the Food:\n– Light catering provided\nBring money for drinks:\n– The CityHive Host runs the CityHive Bar stocked with beer\, wine and non-alcoholic beverages.\n\nPlease RSVP for catering purposes via Eventbrite>\nIf you are interested in presenting at one of our social meetups or know someone who might be\, please let us know! Email buzz@pollinators.org.au \n  \nShare This
URL:https://pollinators.org.au/event/march-social-meetup/
LOCATION:184 Marine Terrace\, Geraldton\, Western Australia\, 6530\, Australia
GEO:-28.774499;114.607172
X-APPLE-STRUCTURED-LOCATION;VALUE=URI;X-ADDRESS=184 Marine Terrace Geraldton Western Australia 6530 Australia;X-APPLE-RADIUS=500;X-TITLE=184 Marine Terrace:geo:114.607172,-28.774499
CATEGORIES:Member Meetup,Peer Learning Session,Social Gathering
ATTACH;FMTTYPE=image/png:https://pollinators.org.au/wp-content/uploads/2019/02/March-Social-Meetup.png
ORGANIZER;CN="Pollinators%20Inc":MAILTO:community@pollinators.org.au
END:VEVENT
BEGIN:VEVENT
DTSTART;TZID=Australia/Perth:20190328T180000
DTEND;TZID=Australia/Perth:20190328T210000
DTSTAMP:20190227T074745
CREATED:20190222T052528Z
LAST-MODIFIED:20190222T052528Z
UID:14509-1553796000-1553806800@pollinators.org.au
SUMMARY:After Dark In Ancient Rome
DESCRIPTION:After a sell-out “Scitech After Dark” event in 2017\, Scinapse brings you Scinapse After Dark in Ancient Rome at the Museum of Geraldton. \nCome and immerse yourself in the new Ancient Rome: The Empire that Shaped the World Touring Exhibition of incredible machines\, art and technology. With artefacts\, models\, catapults\, frescoes\, armour\, weapons\, busts\, and much more\, this exhibition is a must-see! \nThis event is Ancient Rome themed so please dress up – Best dressed on the night will win an awesome door prize. \nYou can expect live music\, comedy improv games\, amazing food and drink (and lots of grapes!). \nGet involved in completing a beautiful\, interactive mosaic art piece throughout the course of the night. \nThis is an 18+ event. Alcohol sponsored by Gage Roads. \nJoin Scinapse (The Mid West Science Engagement) at The Museum of Geraldton for an exclusive\, fun and informative night on March the 28th from 6 – 9pm. \nTickets are $25 each. \nBUY TICKETS NOW!\nShare This
URL:https://pollinators.org.au/event/after-dark-in-ancient-rome/
LOCATION:184 Marine Terrace\, Geraldton\, Western Australia\, 6530\, Australia
GEO:-28.774499;114.607172
X-APPLE-STRUCTURED-LOCATION;VALUE=URI;X-ADDRESS=184 Marine Terrace Geraldton Western Australia 6530 Australia;X-APPLE-RADIUS=500;X-TITLE=184 Marine Terrace:geo:114.607172,-28.774499
CATEGORIES:Mid West Science,Social Gathering
ATTACH;FMTTYPE=image/jpeg:https://pollinators.org.au/wp-content/uploads/2019/02/52835981_2109605482449581_290371108111122432_o.jpg
ORGANIZER;CN="Pollinators%20Inc":MAILTO:community@pollinators.org.au
END:VEVENT
BEGIN:VEVENT
DTSTART;TZID=Australia/Perth:20190404T130000
DTEND;TZID=Australia/Perth:20190404T150000
DTSTAMP:20190227T074746
CREATED:20190225T061306Z
LAST-MODIFIED:20190225T061306Z
UID:14534-1554382800-1554390000@pollinators.org.au
SUMMARY:Be Connected Sessions
DESCRIPTION:Your local Be Connected centre can help you discover how being online can add new skills and experiences to your life. \nBe Connected is a free Australian Government initiative helping older Australians to get the most out of going online. \nBe Connected starts up again in CityHive on March 7 & 21\, April 4 & 11 from 1-3pm. \nAfternoon tea provided. \nPlease call Pollinators on 9965 5371 to RSVP! \nShare This
URL:https://pollinators.org.au/event/be-connected-sessions/2019-04-04/
LOCATION:184 Marine Terrace\, Geraldton\, Western Australia\, 6530\, Australia
GEO:-28.774499;114.607172
X-APPLE-STRUCTURED-LOCATION;VALUE=URI;X-ADDRESS=184 Marine Terrace Geraldton Western Australia 6530 Australia;X-APPLE-RADIUS=500;X-TITLE=184 Marine Terrace:geo:114.607172,-28.774499
CATEGORIES:Digital Enterprise,Info Session,Peer Learning Session,Training
ATTACH;FMTTYPE=image/jpeg:https://pollinators.org.au/wp-content/uploads/2019/02/Be-Connected-Poster-1-e1551074885130.jpg
ORGANIZER;CN="Pollinators%20Inc":MAILTO:community@pollinators.org.au
END:VEVENT
END:VCALENDAR